BEGIN:VCALENDAR
VERSION:2.0
PRODID:-//ChamberMaster//Event Calendar 2.0//EN
METHOD:PUBLISH
X-PUBLISHED-TTL:P3D
REFRESH-INTERVAL:P3D
CALSCALE:GREGORIAN
BEGIN:VEVENT
DTSTART:20171104T150000Z
DTEND:20171104T230000Z
X-MICROSOFT-CDO-ALLDAYEVENT:FALSE
SUMMARY:24th Annual World’s Championship Shrimp Cook-Off
DESCRIPTION:Dozens of contestants and thousands of attendees will be treated to world famous shrimp recipes and a variety of family entertainment. The annual festival is a favorite among area residents and visitors and tests the skills of amateur and professional chefs from throughout the Rio Grande Valley. Contestants are judged on appearance\, aroma\, and taste of their specialty dishes.
X-ALT-DESC;FMTTYPE=text/html:Dozens of contestants and thousands of attendees will be treated to world famous shrimp recipes and a variety of family entertainment. The annual festival is a favorite among area residents and visitors and tests the skills of amateur and professional chefs from throughout the Rio Grande Valley. Contestants are judged on appearance\, aroma\, and taste of their specialty dishes.
LOCATION:Sutherlands 1723 TX-Hwy100 Port Isabel\, TX 78578
UID:e.1294.30389
SEQUENCE:3
DTSTAMP:20260423T184012Z
URL:https://business.rgvpartnership.com/events/details/24th-annual-world-s-championship-shrimp-cook-off-30389
END:VEVENT

END:VCALENDAR
