BEGIN:VCALENDAR
VERSION:2.0
PRODID:-//ChamberMaster//Event Calendar 2.0//EN
METHOD:PUBLISH
X-PUBLISHED-TTL:P3D
REFRESH-INTERVAL:P3D
CALSCALE:GREGORIAN
BEGIN:VEVENT
DTSTART:20161106T160000Z
DTEND:20161107T000000Z
X-MICROSOFT-CDO-ALLDAYEVENT:FALSE
SUMMARY:23rd Annual World's Championship Shrimp Cook-Off
DESCRIPTION:The annual festival is a favorite among area residents and visitors and tests the skills of amateur and professional chefs from throughout the Rio Grande Valley. Contestants are judged on appearance\, aroma\, and taste of their specialty dishes. Samples are available to attendees at a modest fee. In addition to great food and a variety of vendors\, the festival also offers live music by "The Agency" and activities for kids of all ages. Original artwork\, gifts and collectibles can all be found in one location.
X-ALT-DESC;FMTTYPE=text/html:The annual festival is a favorite among area residents and visitors and tests the skills of amateur and professional chefs from throughout the Rio Grande Valley. Contestants are judged on appearance\, aroma\, and taste of their specialty dishes. Samples are available to attendees at a modest fee. In addition to great food and a variety of vendors\, the festival also offers live music by &ldquo\;The Agency&rdquo\; and activities for kids of all ages. Original artwork\, gifts and collectibles can all be found in one location.
LOCATION:Intersection of Hwys. 100 & 48 (Sutherlands)
UID:e.1294.30363
SEQUENCE:3
DTSTAMP:20260424T114309Z
URL:https://business.rgvpartnership.com/events/details/23rd-annual-world-s-championship-shrimp-cook-off-30363
END:VEVENT

END:VCALENDAR
