BEGIN:VCALENDAR
VERSION:2.0
PRODID:-//ChamberMaster//Event Calendar 2.0//EN
METHOD:PUBLISH
X-PUBLISHED-TTL:P3D
REFRESH-INTERVAL:P3D
CALSCALE:GREGORIAN
BEGIN:VEVENT
DTSTART:20170603T130000Z
DTEND:20170603T170000Z
X-MICROSOFT-CDO-ALLDAYEVENT:FALSE
SUMMARY:2017 Summer Longest Causeway Run & Fitness Walk
DESCRIPTION:The 2017 Summer Longest Causeway Run & Fitness Walk will follow a course starting at Schlitterbahn Beach Waterpark on South Padre Island\, continuing on to the Queen Isabella Causeway and over the Laguna Madre Bay and ending in front of the Port Isabel Event & Cultural Center. Awards ceremony will be held immediately following the event. After May 23\, 2017 Overall Male & Female Cash prizes: 1st place will pay $500.00 to each\; 2nd place $300.00 each\; and 3rd place $200.00 each. Overall Male & Female winners will be ineligible for medals in their respective age divisions. Participants may check in at the Port Isabel Chamber office Mon.-Thurs. the week of the event from 9:00 a.m. to 5:00 p.m. to pick up their T-shirts and walker wristbands. RUNNERS TIMING CHIPS AND BIBS WILL BE HANDED OUT AT LATE REGISTRATION FRIDAY FROM 1-8 PM AT THE PIECC AND FROM 6-7 AM AT SCHLITTERBAHN THE DAY OF THE RACE. T-SHIRTS ARE GUARANTEED TO THE FIRST 1\,000 PARTICIPANTS TO CHECK IN. SIZES CANNOT BE GUARANTEED. For more information please visit the event website or call the Port Isabel Chamber of Commerce at 956-943-2262 Run the beach\, cross the bay & join the fun! #SummerRun2017
X-ALT-DESC;FMTTYPE=text/html:The 2017 Summer Longest Causeway Run &amp\; Fitness Walk will follow a course starting at Schlitterbahn Beach Waterpark on South Padre Island\, continuing on to the Queen Isabella Causeway and over the Laguna Madre Bay and ending in front of the Port Isabel Event &amp\; Cultural Center. Awards ceremony will be held immediately following the event. After May 23\, 2017 Overall Male &amp\; Female Cash prizes: 1st place will pay $500.00 to each\; 2nd place $300.00 each\; and 3rd place $200.00 each. Overall Male &amp\; Female winners will be ineligible for medals in their respective age divisions. Participants may check in at the Port Isabel Chamber office Mon.-Thurs. the week of the event from 9:00 a.m. to 5:00 p.m. to pick up their T-shirts and walker wristbands. RUNNERS TIMING CHIPS AND BIBS WILL BE HANDED OUT AT LATE REGISTRATION FRIDAY FROM 1-8 PM AT THE PIECC AND FROM 6-7 AM AT SCHLITTERBAHN THE DAY OF THE RACE. T-SHIRTS ARE GUARANTEED TO THE FIRST 1\,000 PARTICIPANTS TO CHECK IN. SIZES CANNOT BE GUARANTEED. For more information please visit the event website or call the Port Isabel Chamber of Commerce at 956-943-2262 Run the beach\, cross the bay &amp\; join the fun! #SummerRun2017
LOCATION:Port Isabel Event & Cultural Center
UID:e.1294.30383
SEQUENCE:3
DTSTAMP:20260424T013847Z
URL:https://business.rgvpartnership.com/events/details/2017-summer-longest-causeway-run-fitness-walk-30383
END:VEVENT

END:VCALENDAR
