BEGIN:VCALENDAR
VERSION:2.0
PRODID:-//ChamberMaster//Event Calendar 2.0//EN
METHOD:PUBLISH
X-PUBLISHED-TTL:P3D
REFRESH-INTERVAL:P3D
CALSCALE:GREGORIAN
BEGIN:VEVENT
DTSTART:20171109T150000Z
DTEND:20171109T190000Z
X-MICROSOFT-CDO-ALLDAYEVENT:FALSE
SUMMARY:2017 Hiring Red\, White and You! Veteran Job Fair
DESCRIPTION:Looking for a career or change in career? If so\, join us at the 2017 Hiring Red\, White\, and You! Job Fair on Thursday\, November 9\, 2017 at the Boggus Ford Event Center located at 3000 N. Cage\, Pharr\, TX 78577. Veteran Admission 9:00AM   1:00PM General Public Admission 10:00AM   1:00PM We anticipate over 50 businesses onsite recruiting for the talents and skills you have\, as well as community partner information over services available for Veterans. More than 16\,000 veterans and 2\,000 employers attended statewide job fairs in 2016. In its first five years\, Hiring Red\, White & You! has connected more than 58\,000 veterans with over 8\,400 employers. It is estimated that there are 927\,000 veterans in Texas who are eligible for work. By holding Hiring Red\, White and You! job fairs across the state\, Texas employers can more easily connect to this highly qualified group of servicemen and -women across the state.
X-ALT-DESC;FMTTYPE=text/html:Looking for a career or change in career? If so\, join us at the 2017 Hiring Red\, White\, and You! Job Fair on Thursday\, November 9\, 2017 at the Boggus Ford Event Center located at 3000 N. Cage\, Pharr\, TX 78577. Veteran Admission 9:00AM &ndash\; 1:00PM General Public Admission 10:00AM &ndash\; 1:00PM We anticipate over 50 businesses onsite recruiting for the talents and skills you have\, as well as community partner information over services available for Veterans. More than 16\,000 veterans and 2\,000 employers attended statewide job fairs in 2016. In its first five years\, Hiring Red\, White &amp\; You! has connected more than 58\,000 veterans with over 8\,400 employers. It is estimated that there are 927\,000 veterans in Texas who are eligible for work. By holding Hiring Red\, White and You! job fairs across the state\, Texas employers can more easily connect to this highly qualified group of servicemen and -women across the state.
LOCATION:Ford Event Center located at 3000 N. Cage\, Pharr\, TX 78577.
UID:e.1294.30402
SEQUENCE:3
DTSTAMP:20260423T195229Z
URL:https://business.rgvpartnership.com/events/details/2017-hiring-red-white-and-you-veteran-job-fair-30402
END:VEVENT

END:VCALENDAR
