BEGIN:VCALENDAR
VERSION:2.0
PRODID:-//ChamberMaster//Event Calendar 2.0//EN
METHOD:PUBLISH
X-PUBLISHED-TTL:P3D
REFRESH-INTERVAL:P3D
CALSCALE:GREGORIAN
BEGIN:VEVENT
DTSTART;VALUE=DATE:20141010
DTEND;VALUE=DATE:20141013
TRANSP:TRANSPARENT
X-MICROSOFT-CDO-ALLDAYEVENT:TRUE
SUMMARY:2014 Latin Jazz Festival
DESCRIPTION:18th Annual Brownsville Latin Jazz Festival
X-ALT-DESC;FMTTYPE=text/html:18th Annual Brownsville Latin Jazz Festival<br />\n&nbsp\;
LOCATION:Friday: Market Square in Historic Downtown Saturday: Jacob Brown Auditorium Sunday: Levee St. Between 11th &12th St
UID:e.1294.30085
SEQUENCE:3
DTSTAMP:20260426T023905Z
URL:https://business.rgvpartnership.com/events/details/2014-latin-jazz-festival-10-10-2014-30085
END:VEVENT

END:VCALENDAR
