BEGIN:VCALENDAR
VERSION:2.0
PRODID:-//ChamberMaster//Event Calendar 2.0//EN
METHOD:PUBLISH
X-PUBLISHED-TTL:P3D
REFRESH-INTERVAL:P3D
CALSCALE:GREGORIAN
BEGIN:VEVENT
DTSTART;VALUE=DATE:20140927
DTEND;VALUE=DATE:20140928
TRANSP:TRANSPARENT
X-MICROSOFT-CDO-ALLDAYEVENT:TRUE
SUMMARY:1st Annual Chick-fil-A Family Mud Run
DESCRIPTION:Family Mud Run\n\n10K Intense\, 5K Fun\, 1K Kids\n\n*Pre-registration includes: T-shirt\, Runners Bib\, Medal & Chick-fil-A chicken sandwich.
X-ALT-DESC;FMTTYPE=text/html:Family Mud Run<br />\n10K Intense\, 5K Fun\, 1K Kids<br />\n*Pre-registration includes: T-shirt\, Runners Bib\, Medal &amp\; Chick-fil-A chicken sandwich.
LOCATION:807 N. Valley View Road Donna\, Texas 78537
UID:e.1294.30030
SEQUENCE:3
DTSTAMP:20260426T041045Z
URL:https://business.rgvpartnership.com/events/details/1st-annual-chick-fil-a-family-mud-run-09-27-2014-30030
END:VEVENT

END:VCALENDAR
