BEGIN:VCALENDAR
VERSION:2.0
PRODID:-//ChamberMaster//Event Calendar 2.0//EN
METHOD:PUBLISH
X-PUBLISHED-TTL:P3D
REFRESH-INTERVAL:P3D
CALSCALE:GREGORIAN
BEGIN:VEVENT
DTSTART:20141101T140000Z
DTEND:20141104T210000Z
X-MICROSOFT-CDO-ALLDAYEVENT:FALSE
SUMMARY:19th Annual Texas Butterfly Festival
DESCRIPTION:The 19th Annual Texas Butterfly Festival\, featuring more private gardens and ?hot spots?\, is ready and waiting for you! We?re delighted to reprise some of last year?s most popular sessions\, and welcome the return of the riverboat tour\; so check out the full schedule and trip descriptions to book yours\, today. Added bonuses include fantastic food by the award-winning members of the Texas Chef?s Association\, and keynote speaker Sharman Apt Russell\, author of An Obsession with Butterflies: Our Long Love Affair with a Singular Insect. Of course\, the ever-popular margarita machine will be here\, too!
X-ALT-DESC;FMTTYPE=text/html:The 19th Annual Texas Butterfly Festival\, featuring more private gardens and ?hot spots?\, is ready and waiting for you! We?re delighted to reprise some of last year?s most popular sessions\, and welcome the return of the riverboat tour\; so check out the full schedule and trip descriptions to book yours\, today. Added bonuses include fantastic food by the award-winning members of the Texas Chef?s Association\, and keynote speaker Sharman Apt Russell\, author of An Obsession with Butterflies: Our Long Love Affair with a Singular Insect. Of course\, the ever-popular margarita machine will be here\, too!
LOCATION:National Butterfly Center\, Mission\, Texas
UID:e.1294.30063
SEQUENCE:3
DTSTAMP:20260426T010622Z
URL:https://business.rgvpartnership.com/events/details/19th-annual-texas-butterfly-festival-11-01-2014-30063
END:VEVENT

END:VCALENDAR
